BEGIN:VCALENDAR
VERSION:2.0
PRODID:-//Operation Pets Alive - ECPv6.15.12.2//NONSGML v1.0//EN
CALSCALE:GREGORIAN
METHOD:PUBLISH
X-ORIGINAL-URL:https://operationpetsalive.org
X-WR-CALDESC:Events for Operation Pets Alive
REFRESH-INTERVAL;VALUE=DURATION:PT1H
X-Robots-Tag:noindex
X-PUBLISHED-TTL:PT1H
BEGIN:VTIMEZONE
TZID:America/Chicago
BEGIN:DAYLIGHT
TZOFFSETFROM:-0600
TZOFFSETTO:-0500
TZNAME:CDT
DTSTART:20230312T080000
END:DAYLIGHT
BEGIN:STANDARD
TZOFFSETFROM:-0500
TZOFFSETTO:-0600
TZNAME:CST
DTSTART:20231105T070000
END:STANDARD
BEGIN:DAYLIGHT
TZOFFSETFROM:-0600
TZOFFSETTO:-0500
TZNAME:CDT
DTSTART:20240310T080000
END:DAYLIGHT
BEGIN:STANDARD
TZOFFSETFROM:-0500
TZOFFSETTO:-0600
TZNAME:CST
DTSTART:20241103T070000
END:STANDARD
BEGIN:DAYLIGHT
TZOFFSETFROM:-0600
TZOFFSETTO:-0500
TZNAME:CDT
DTSTART:20250309T080000
END:DAYLIGHT
BEGIN:STANDARD
TZOFFSETFROM:-0500
TZOFFSETTO:-0600
TZNAME:CST
DTSTART:20251102T070000
END:STANDARD
END:VTIMEZONE
BEGIN:VEVENT
DTSTART;TZID=America/Chicago:20240907T100000
DTEND;TZID=America/Chicago:20240907T180000
DTSTAMP:20260423T015807
CREATED:20240905T204401Z
LAST-MODIFIED:20240905T204539Z
UID:15697-1725703200-1725732000@operationpetsalive.org
SUMMARY:Montgomery County Home & Outdoor Living Show
DESCRIPTION:Operation Pets Alive will have a booth (L15\, L16) at the Montgomery County Home & Outdoor Living Show! Stop by and say hi\, learn how you can get involved in saving lives in Montgomery County or drop off a donation! \nSeptember 7 & 8\, 2024\nHome Improvement Ideas + Local Home Pros. All Under One Roof! \nJoin us at the Montgomery County Home & Outdoor Living Show this Fall. The show helps you to find home goods\, seasonal decor\, artisan furniture\, products and the right professionals for any type of home improvement or DIY project you have. Create your dream home with their home improvement professionals. \nLocation:\nThe Lone Star Convention & Expo Center\n9055 Airport Road\, Conroe\, TX 77303\nFree Parking! \nShow Hours:\nSaturday: 10am – 6pm\nSunday: 11am – 5pm \nTicket Prices:\nFREE ADMISSION \nFor more info: https://texwoodshows.com/live-shows/montgomery-show/
URL:https://operationpetsalive.org/event/montgomery-county-home-outdoor-living-show-09072024/
LOCATION:The Lone Star Convention & Expo Center\, 9055 Airport Rd\, Conroe\, TX\, 77303\, United States
CATEGORIES:Educational,Fundraisers
ATTACH;FMTTYPE=image/webp:https://operationpetsalive.org/wp-content/uploads/2024/09/moco-home-show.webp
END:VEVENT
BEGIN:VEVENT
DTSTART;TZID=America/Chicago:20240908T110000
DTEND;TZID=America/Chicago:20240908T170000
DTSTAMP:20260423T015807
CREATED:20240905T204558Z
LAST-MODIFIED:20240905T204558Z
UID:15700-1725793200-1725814800@operationpetsalive.org
SUMMARY:Montgomery County Home & Outdoor Living Show
DESCRIPTION:Operation Pets Alive will have a booth (L15\, L16) at the Montgomery County Home & Outdoor Living Show! Stop by and say hi\, learn how you can get involved in saving lives in Montgomery County or drop off a donation! \nSeptember 7 & 8\, 2024\nHome Improvement Ideas + Local Home Pros. All Under One Roof! \nJoin us at the Montgomery County Home & Outdoor Living Show this Fall. The show helps you to find home goods\, seasonal decor\, artisan furniture\, products and the right professionals for any type of home improvement or DIY project you have. Create your dream home with their home improvement professionals. \nLocation:\nThe Lone Star Convention & Expo Center\n9055 Airport Road\, Conroe\, TX 77303\nFree Parking! \nShow Hours:\nSaturday: 10am – 6pm\nSunday: 11am – 5pm \nTicket Prices:\nFREE ADMISSION \nFor more info: https://texwoodshows.com/live-shows/montgomery-show/
URL:https://operationpetsalive.org/event/montgomery-county-home-outdoor-living-show-09082024/
LOCATION:The Lone Star Convention & Expo Center\, 9055 Airport Rd\, Conroe\, TX\, 77303\, United States
CATEGORIES:Educational,Fundraisers
ATTACH;FMTTYPE=image/webp:https://operationpetsalive.org/wp-content/uploads/2024/09/moco-home-show.webp
END:VEVENT
BEGIN:VEVENT
DTSTART;TZID=America/Chicago:20240921T180000
DTEND;TZID=America/Chicago:20240921T210000
DTSTAMP:20260423T015807
CREATED:20240905T202206Z
LAST-MODIFIED:20240905T202206Z
UID:15693-1726941600-1726952400@operationpetsalive.org
SUMMARY:Parents Night Out
DESCRIPTION:Enjoyed a well deserved break while the kids enjoy a fun filled evening! \nRegister here!
URL:https://operationpetsalive.org/event/parents-night-out/
LOCATION:Woodlands Sportsplex\, 25127 Gosling Rd\, Spring\, TX\, 77389\, United States
CATEGORIES:Fundraisers
ATTACH;FMTTYPE=image/webp:https://operationpetsalive.org/wp-content/uploads/2024/09/pno-event.webp
END:VEVENT
END:VCALENDAR