BEGIN:VCALENDAR
VERSION:2.0
PRODID:-//Operation Pets Alive - ECPv6.15.12.2//NONSGML v1.0//EN
CALSCALE:GREGORIAN
METHOD:PUBLISH
X-WR-CALNAME:Operation Pets Alive
X-ORIGINAL-URL:https://operationpetsalive.org
X-WR-CALDESC:Events for Operation Pets Alive
REFRESH-INTERVAL;VALUE=DURATION:PT1H
X-Robots-Tag:noindex
X-PUBLISHED-TTL:PT1H
BEGIN:VTIMEZONE
TZID:America/Chicago
BEGIN:DAYLIGHT
TZOFFSETFROM:-0600
TZOFFSETTO:-0500
TZNAME:CDT
DTSTART:20230312T080000
END:DAYLIGHT
BEGIN:STANDARD
TZOFFSETFROM:-0500
TZOFFSETTO:-0600
TZNAME:CST
DTSTART:20231105T070000
END:STANDARD
BEGIN:DAYLIGHT
TZOFFSETFROM:-0600
TZOFFSETTO:-0500
TZNAME:CDT
DTSTART:20240310T080000
END:DAYLIGHT
BEGIN:STANDARD
TZOFFSETFROM:-0500
TZOFFSETTO:-0600
TZNAME:CST
DTSTART:20241103T070000
END:STANDARD
BEGIN:DAYLIGHT
TZOFFSETFROM:-0600
TZOFFSETTO:-0500
TZNAME:CDT
DTSTART:20250309T080000
END:DAYLIGHT
BEGIN:STANDARD
TZOFFSETFROM:-0500
TZOFFSETTO:-0600
TZNAME:CST
DTSTART:20251102T070000
END:STANDARD
END:VTIMEZONE
BEGIN:VEVENT
DTSTART;TZID=America/Chicago:20241203T000000
DTEND;TZID=America/Chicago:20241203T233000
DTSTAMP:20260422T195508
CREATED:20241123T163107Z
LAST-MODIFIED:20241123T163108Z
UID:15956-1733184000-1733268600@operationpetsalive.org
SUMMARY:Giving Tuesday
DESCRIPTION:On December 3\, 2024\, Operation Pets Alive is participating in Giving Tuesday and we need your help! Giving Tuesday was created in 2012 as a simple idea: a day that encourages people to do good and help others. The money you help us raise by chipping in just $5\, will help us pay for medical care\, food\, beds\, toys and transport for the animals in our care. \n\n\n    \n\n\nIf you’re not in a position to donate\, you can also help by sharing our campaign with others you think might want to help. Somehow we always find a way to make it through for the benefit of those precious souls. Sometimes it almost seems impossible and we look back and wonder how we got by. \nBy joining the #GivingTuesday movement\, you’re proving that in times of uncertainty\, generosity can bring the whole world together. \nThanks from all of us at Operation Pets Alive!
URL:https://operationpetsalive.org/event/giving-tuesday-2024/
CATEGORIES:Fundraisers
ATTACH;FMTTYPE=image/webp:https://operationpetsalive.org/wp-content/uploads/2024/11/gt-event.webp
ORGANIZER;CN="Operation Pets Alive":MAILTO:kathy@operationpetsalive.org
END:VEVENT
BEGIN:VEVENT
DTSTART;TZID=America/Chicago:20241206T000000
DTEND;TZID=America/Chicago:20241231T233000
DTSTAMP:20260422T195508
CREATED:20241123T170118Z
LAST-MODIFIED:20241224T053234Z
UID:15959-1733443200-1735687800@operationpetsalive.org
SUMMARY:End of Year Fundraiser
DESCRIPTION:
URL:https://operationpetsalive.org/event/end-of-year-fundraiser-2024/
CATEGORIES:Fundraisers
ATTACH;FMTTYPE=image/webp:https://operationpetsalive.org/wp-content/uploads/2024/12/EOY-fundraiser-event-22k.webp
END:VEVENT
BEGIN:VEVENT
DTSTART;TZID=America/Chicago:20241214T100000
DTEND;TZID=America/Chicago:20241214T130000
DTSTAMP:20260422T195508
CREATED:20241201T194742Z
LAST-MODIFIED:20241201T194804Z
UID:16022-1734170400-1734181200@operationpetsalive.org
SUMMARY:Elf Shelf Burn (Yoga\, Shopping & Adoptions!)
DESCRIPTION:Join us for yoga\, meet adoptable pets and a sip and shop event! More details on the flyer below. \nYoga starts at 10am and then we’ll see you inside Pure Barre for shopping! \nBuy tickets and see OPA’s wishlists for donations here: https://linktr.ee/PBTW
URL:https://operationpetsalive.org/event/elf-shelf-burn-yoga-shopping-adoptions/
LOCATION:The Bandshell\, 1950 Hughes Landing Blvd\, The Woodlands\, TX\, 77380\, United States
CATEGORIES:Fundraisers
ATTACH;FMTTYPE=image/png:https://operationpetsalive.org/wp-content/uploads/2024/12/puree-bar.png
END:VEVENT
END:VCALENDAR