BEGIN:VCALENDAR
VERSION:2.0
PRODID:-//Operation Pets Alive - ECPv6.15.12.2//NONSGML v1.0//EN
CALSCALE:GREGORIAN
METHOD:PUBLISH
X-WR-CALNAME:Operation Pets Alive
X-ORIGINAL-URL:https://operationpetsalive.org
X-WR-CALDESC:Events for Operation Pets Alive
REFRESH-INTERVAL;VALUE=DURATION:PT1H
X-Robots-Tag:noindex
X-PUBLISHED-TTL:PT1H
BEGIN:VTIMEZONE
TZID:America/Chicago
BEGIN:DAYLIGHT
TZOFFSETFROM:-0600
TZOFFSETTO:-0500
TZNAME:CDT
DTSTART:20240310T080000
END:DAYLIGHT
BEGIN:STANDARD
TZOFFSETFROM:-0500
TZOFFSETTO:-0600
TZNAME:CST
DTSTART:20241103T070000
END:STANDARD
BEGIN:DAYLIGHT
TZOFFSETFROM:-0600
TZOFFSETTO:-0500
TZNAME:CDT
DTSTART:20250309T080000
END:DAYLIGHT
BEGIN:STANDARD
TZOFFSETFROM:-0500
TZOFFSETTO:-0600
TZNAME:CST
DTSTART:20251102T070000
END:STANDARD
BEGIN:DAYLIGHT
TZOFFSETFROM:-0600
TZOFFSETTO:-0500
TZNAME:CDT
DTSTART:20260308T080000
END:DAYLIGHT
BEGIN:STANDARD
TZOFFSETFROM:-0500
TZOFFSETTO:-0600
TZNAME:CST
DTSTART:20261101T070000
END:STANDARD
END:VTIMEZONE
BEGIN:VEVENT
DTSTART;TZID=America/Chicago:20250524T160000
DTEND;TZID=America/Chicago:20250524T200000
DTSTAMP:20260422T084826
CREATED:20250521T004536Z
LAST-MODIFIED:20250521T004536Z
UID:16746-1748102400-1748116800@operationpetsalive.org
SUMMARY:Wine\, Whiskers & Wags
DESCRIPTION:The Classy Cork has partnered with Operation Pets Alive for a night of giving. Join us Saturday\, May 24 from 4-8 PM. There will be some adorable\, adoptable pets on the property ready for adoption\, door prizes\, and so much more. The Classy Cork is donating 10% of net proceeds that evening to this worthy cause. Come out and show your support. \n\nADOPTION FEES\nDogs (under 6 months): $250\nDogs (over 6 months): $185\nSenior Dogs (over 8 years old): $150 \nCats (under 6 months): $125\nCats (over 6 months): $100\nSenior Cats (over 8 years old): $80\nIncludes spay/neuter\, vaccinations and de-worming. \nFor an overview of our adoption process\, and to download and fill out an adoption application in advance to coming to any one of our events\, visit: https://operationpetsalive.org/programs/adopt/ \nVOLUNTEERS NEEDED\nWe sure could use your help at our adoption events! Please consider donating your time this Saturday. Stop by any of our events and speak with a Coordinator to get started or message us on Facebook! \nFOSTERS\nPlease sign up your dog/cat to the event you wish to bring it to. Please remember all animals must be up-to-date with vaccinations before attending an adoption event. \nTo volunteer at the adoption event or to sign up your foster dog or cat go here: OPA Signup Genius \nJoin us and help Operation Pets Alive continue its mission to elevate Montgomery County to a No-Kill Community. To see how you can help\, or to read more about Operation Pets Alive\, please visit our website here: www.operationpetsalive.org
URL:https://operationpetsalive.org/event/wine-whiskers-wags-2025/
LOCATION:The Classy Cork\, 22916 Kuykendahl\, Spring\, TX\, 77389\, United States
CATEGORIES:Adoption Events,Fundraisers
ATTACH;FMTTYPE=image/webp:https://operationpetsalive.org/wp-content/uploads/2025/05/wine-whiskers-wags-2025-scaled.webp
END:VEVENT
END:VCALENDAR