BEGIN:VCALENDAR
VERSION:2.0
PRODID:-//Operation Pets Alive - ECPv6.15.12.2//NONSGML v1.0//EN
CALSCALE:GREGORIAN
METHOD:PUBLISH
X-WR-CALNAME:Operation Pets Alive
X-ORIGINAL-URL:https://operationpetsalive.org
X-WR-CALDESC:Events for Operation Pets Alive
REFRESH-INTERVAL;VALUE=DURATION:PT1H
X-Robots-Tag:noindex
X-PUBLISHED-TTL:PT1H
BEGIN:VTIMEZONE
TZID:America/Chicago
BEGIN:DAYLIGHT
TZOFFSETFROM:-0600
TZOFFSETTO:-0500
TZNAME:CDT
DTSTART:20240310T080000
END:DAYLIGHT
BEGIN:STANDARD
TZOFFSETFROM:-0500
TZOFFSETTO:-0600
TZNAME:CST
DTSTART:20241103T070000
END:STANDARD
BEGIN:DAYLIGHT
TZOFFSETFROM:-0600
TZOFFSETTO:-0500
TZNAME:CDT
DTSTART:20250309T080000
END:DAYLIGHT
BEGIN:STANDARD
TZOFFSETFROM:-0500
TZOFFSETTO:-0600
TZNAME:CST
DTSTART:20251102T070000
END:STANDARD
BEGIN:DAYLIGHT
TZOFFSETFROM:-0600
TZOFFSETTO:-0500
TZNAME:CDT
DTSTART:20260308T080000
END:DAYLIGHT
BEGIN:STANDARD
TZOFFSETFROM:-0500
TZOFFSETTO:-0600
TZNAME:CST
DTSTART:20261101T070000
END:STANDARD
END:VTIMEZONE
BEGIN:VEVENT
DTSTART;TZID=America/Chicago:20251202T000000
DTEND;TZID=America/Chicago:20251202T233000
DTSTAMP:20260421T182849
CREATED:20251118T024933Z
LAST-MODIFIED:20251118T024956Z
UID:17735-1764633600-1764718200@operationpetsalive.org
SUMMARY:GivingTuesday
DESCRIPTION:On December 2\, 2025\, Operation Pets Alive is participating in GivingTuesday and we need your help! GivingTuesday was created in 2012 as a simple idea: a day that encourages people to do good and help others. The money you help us raise by chipping in just $5\, will help us pay for medical care\, food\, beds\, toys and transport for the animals in our care. \n\nIf you’re not in a position to donate\, you can also help by sharing our campaign with others you think might want to help. Somehow we always find a way to make it through for the benefit of those precious souls. \nBy joining the #GivingTuesday movement\, you’re proving that in times of uncertainty\, generosity can bring the whole world together. \nThanks from all of us at Operation Pets Alive!
URL:https://operationpetsalive.org/event/giving-tuesday-2025/
CATEGORIES:Fundraisers
ATTACH;FMTTYPE=image/jpeg:https://operationpetsalive.org/wp-content/uploads/2025/11/event-2025.jpg
ORGANIZER;CN="Operation Pets Alive":MAILTO:kathy@operationpetsalive.org
END:VEVENT
BEGIN:VEVENT
DTSTART;TZID=America/Chicago:20251205T000000
DTEND;TZID=America/Chicago:20251231T235900
DTSTAMP:20260421T182849
CREATED:20251205T060121Z
LAST-MODIFIED:20251126T212342Z
UID:17851-1764892800-1767225540@operationpetsalive.org
SUMMARY:End-of-Year Fundraiser
DESCRIPTION:
URL:https://operationpetsalive.org/event/end-of-year-fundraiser-2/
CATEGORIES:Fundraisers
END:VEVENT
BEGIN:VEVENT
DTSTART;TZID=America/Chicago:20251213T120000
DTEND;TZID=America/Chicago:20251213T210000
DTSTAMP:20260421T182849
CREATED:20251121T000023Z
LAST-MODIFIED:20251126T205800Z
UID:17793-1765627200-1765659600@operationpetsalive.org
SUMMARY:Holiday Gift Wrapping
DESCRIPTION:Add #JoyToYourWorld this Holiday Season by saving precious time! For the 12th year in a row\, The Woodlands Mall has invited Operation Pets Alive volunteers to provide Gift Wrapping Services to holiday shoppers! \nOPA Volunteers will be ready to wrap your holiday gifts up beginning December 13 through December 24 on the lower level of the mall near Dick’s Sporting Goods. \nA minimum donation is asked for each gift wrapped. Save time and help save precious lives! All proceeds from our gift wrapping services go to help the homeless dogs and cats in Montgomery County! \n\nGift-Wrapping Days and Hours:\nDecember 13 Noon – 9pm\nDecember 14 Noon – 7pm\nDecember 15 Noon – 9pm\nDecember 16-19 Noon – 8pm\nDecember 20 10am – 9pm\nDecember 21 11am – 8pm\nDecember 22-23 Noon – 9pm\nDecember 24 9am – 3pm \n\nMinimum Donation for Gift-Wrapping Services:\nSmall: $5\nMedium: $8\nLarge: $10 \n\nIf you’re looking to #GiveBack this Holiday season by donating a little of your time for a worthy cause\, Operation Pets Alive needs you!\nGift wrappers\, customer service\, and general help is needed to fill shifts at our Gift Wrapping Station. Sign up with a friend or two or three! For more information and to pick your shift(s)\, visit our OPA Volunteer SignUp page here:\nhttps://www.signupgenius.com/go/10C0945ACAE2EAAF4C52-59944594-2025#/ \nIf you would like to sign up as a Shift Coordinator\, have a group you would like to bring\, have questions or need help\, please email our Gift Wrapping Coordinator at: cpavlinik@operationpetsalive.org
URL:https://operationpetsalive.org/event/gift-wrapping-2025-1/
LOCATION:The Woodlands Mall\, 1201 Lake Woodlands Dr\, The Woodlands\, TX\, 77380\, United States
CATEGORIES:Fundraisers
ATTACH;FMTTYPE=image/webp:https://operationpetsalive.org/wp-content/uploads/2025/11/gift-wrapping-banner.webp
END:VEVENT
BEGIN:VEVENT
DTSTART;TZID=America/Chicago:20251214T120000
DTEND;TZID=America/Chicago:20251214T190000
DTSTAMP:20260421T182849
CREATED:20251126T210008Z
LAST-MODIFIED:20251126T210008Z
UID:17829-1765713600-1765738800@operationpetsalive.org
SUMMARY:Holiday Gift Wrapping
DESCRIPTION:Add #JoyToYourWorld this Holiday Season by saving precious time! For the 12th year in a row\, The Woodlands Mall has invited Operation Pets Alive volunteers to provide Gift Wrapping Services to holiday shoppers! \nOPA Volunteers will be ready to wrap your holiday gifts up beginning December 13 through December 24 on the lower level of the mall near Dick’s Sporting Goods. \nA minimum donation is asked for each gift wrapped. Save time and help save precious lives! All proceeds from our gift wrapping services go to help the homeless dogs and cats in Montgomery County! \n\nGift-Wrapping Days and Hours:\nDecember 13 Noon – 9pm\nDecember 14 Noon – 7pm\nDecember 15 Noon – 9pm\nDecember 16-19 Noon – 8pm\nDecember 20 10am – 9pm\nDecember 21 11am – 8pm\nDecember 22-23 Noon – 9pm\nDecember 24 9am – 3pm \n\nMinimum Donation for Gift-Wrapping Services:\nSmall: $5\nMedium: $8\nLarge: $10 \n\nIf you’re looking to #GiveBack this Holiday season by donating a little of your time for a worthy cause\, Operation Pets Alive needs you!\nGift wrappers\, customer service\, and general help is needed to fill shifts at our Gift Wrapping Station. Sign up with a friend or two or three! For more information and to pick your shift(s)\, visit our OPA Volunteer SignUp page here:\nhttps://www.signupgenius.com/go/10C0945ACAE2EAAF4C52-59944594-2025#/ \nIf you would like to sign up as a Shift Coordinator\, have a group you would like to bring\, have questions or need help\, please email our Gift Wrapping Coordinator at: cpavlinik@operationpetsalive.org
URL:https://operationpetsalive.org/event/holiday-gift-wrapping-2025-2/
LOCATION:The Woodlands Mall\, 1201 Lake Woodlands Dr\, The Woodlands\, TX\, 77380\, United States
CATEGORIES:Fundraisers
ATTACH;FMTTYPE=image/webp:https://operationpetsalive.org/wp-content/uploads/2025/11/gift-wrapping-banner.webp
END:VEVENT
BEGIN:VEVENT
DTSTART;TZID=America/Chicago:20251215T120000
DTEND;TZID=America/Chicago:20251215T210000
DTSTAMP:20260421T182849
CREATED:20251126T210149Z
LAST-MODIFIED:20251126T210358Z
UID:17831-1765800000-1765832400@operationpetsalive.org
SUMMARY:Holiday Gift Wrapping
DESCRIPTION:Add #JoyToYourWorld this Holiday Season by saving precious time! For the 12th year in a row\, The Woodlands Mall has invited Operation Pets Alive volunteers to provide Gift Wrapping Services to holiday shoppers! \nOPA Volunteers will be ready to wrap your holiday gifts up beginning December 13 through December 24 on the lower level of the mall near Dick’s Sporting Goods. \nA minimum donation is asked for each gift wrapped. Save time and help save precious lives! All proceeds from our gift wrapping services go to help the homeless dogs and cats in Montgomery County! \n\nGift-Wrapping Days and Hours:\nDecember 13 Noon – 9pm\nDecember 14 Noon – 7pm\nDecember 15 Noon – 9pm\nDecember 16-19 Noon – 8pm\nDecember 20 10am – 9pm\nDecember 21 11am – 8pm\nDecember 22-23 Noon – 9pm\nDecember 24 9am – 3pm \n\nMinimum Donation for Gift-Wrapping Services:\nSmall: $5\nMedium: $8\nLarge: $10 \n\nIf you’re looking to #GiveBack this Holiday season by donating a little of your time for a worthy cause\, Operation Pets Alive needs you!\nGift wrappers\, customer service\, and general help is needed to fill shifts at our Gift Wrapping Station. Sign up with a friend or two or three! For more information and to pick your shift(s)\, visit our OPA Volunteer SignUp page here:\nhttps://www.signupgenius.com/go/10C0945ACAE2EAAF4C52-59944594-2025#/ \nIf you would like to sign up as a Shift Coordinator\, have a group you would like to bring\, have questions or need help\, please email our Gift Wrapping Coordinator at: cpavlinik@operationpetsalive.org
URL:https://operationpetsalive.org/event/holiday-gift-wrapping-2025-3/
LOCATION:The Woodlands Mall\, 1201 Lake Woodlands Dr\, The Woodlands\, TX\, 77380\, United States
CATEGORIES:Fundraisers
ATTACH;FMTTYPE=image/webp:https://operationpetsalive.org/wp-content/uploads/2025/11/gift-wrapping-banner.webp
END:VEVENT
BEGIN:VEVENT
DTSTART;TZID=America/Chicago:20251216T120000
DTEND;TZID=America/Chicago:20251216T200000
DTSTAMP:20260421T182849
CREATED:20251126T210327Z
LAST-MODIFIED:20251126T210327Z
UID:17833-1765886400-1765915200@operationpetsalive.org
SUMMARY:Holiday Gift Wrapping
DESCRIPTION:Add #JoyToYourWorld this Holiday Season by saving precious time! For the 12th year in a row\, The Woodlands Mall has invited Operation Pets Alive volunteers to provide Gift Wrapping Services to holiday shoppers! \nOPA Volunteers will be ready to wrap your holiday gifts up beginning December 13 through December 24 on the lower level of the mall near Dick’s Sporting Goods. \nA minimum donation is asked for each gift wrapped. Save time and help save precious lives! All proceeds from our gift wrapping services go to help the homeless dogs and cats in Montgomery County! \n\nGift-Wrapping Days and Hours:\nDecember 13 Noon – 9pm\nDecember 14 Noon – 7pm\nDecember 15 Noon – 9pm\nDecember 16-19 Noon – 8pm\nDecember 20 10am – 9pm\nDecember 21 11am – 8pm\nDecember 22-23 Noon – 9pm\nDecember 24 9am – 3pm \n\nMinimum Donation for Gift-Wrapping Services:\nSmall: $5\nMedium: $8\nLarge: $10 \n\nIf you’re looking to #GiveBack this Holiday season by donating a little of your time for a worthy cause\, Operation Pets Alive needs you!\nGift wrappers\, customer service\, and general help is needed to fill shifts at our Gift Wrapping Station. Sign up with a friend or two or three! For more information and to pick your shift(s)\, visit our OPA Volunteer SignUp page here:\nhttps://www.signupgenius.com/go/10C0945ACAE2EAAF4C52-59944594-2025#/ \nIf you would like to sign up as a Shift Coordinator\, have a group you would like to bring\, have questions or need help\, please email our Gift Wrapping Coordinator at: cpavlinik@operationpetsalive.org
URL:https://operationpetsalive.org/event/gift-wrapping-2025-4/
LOCATION:The Woodlands Mall\, 1201 Lake Woodlands Dr\, The Woodlands\, TX\, 77380\, United States
CATEGORIES:Fundraisers
ATTACH;FMTTYPE=image/webp:https://operationpetsalive.org/wp-content/uploads/2025/11/gift-wrapping-banner.webp
END:VEVENT
BEGIN:VEVENT
DTSTART;TZID=America/Chicago:20251217T120000
DTEND;TZID=America/Chicago:20251217T200000
DTSTAMP:20260421T182849
CREATED:20251126T210508Z
LAST-MODIFIED:20251126T210508Z
UID:17835-1765972800-1766001600@operationpetsalive.org
SUMMARY:Holiday Gift Wrapping
DESCRIPTION:Add #JoyToYourWorld this Holiday Season by saving precious time! For the 12th year in a row\, The Woodlands Mall has invited Operation Pets Alive volunteers to provide Gift Wrapping Services to holiday shoppers! \nOPA Volunteers will be ready to wrap your holiday gifts up beginning December 13 through December 24 on the lower level of the mall near Dick’s Sporting Goods. \nA minimum donation is asked for each gift wrapped. Save time and help save precious lives! All proceeds from our gift wrapping services go to help the homeless dogs and cats in Montgomery County! \n\nGift-Wrapping Days and Hours:\nDecember 13 Noon – 9pm\nDecember 14 Noon – 7pm\nDecember 15 Noon – 9pm\nDecember 16-19 Noon – 8pm\nDecember 20 10am – 9pm\nDecember 21 11am – 8pm\nDecember 22-23 Noon – 9pm\nDecember 24 9am – 3pm \n\nMinimum Donation for Gift-Wrapping Services:\nSmall: $5\nMedium: $8\nLarge: $10 \n\nIf you’re looking to #GiveBack this Holiday season by donating a little of your time for a worthy cause\, Operation Pets Alive needs you!\nGift wrappers\, customer service\, and general help is needed to fill shifts at our Gift Wrapping Station. Sign up with a friend or two or three! For more information and to pick your shift(s)\, visit our OPA Volunteer SignUp page here:\nhttps://www.signupgenius.com/go/10C0945ACAE2EAAF4C52-59944594-2025#/ \nIf you would like to sign up as a Shift Coordinator\, have a group you would like to bring\, have questions or need help\, please email our Gift Wrapping Coordinator at: cpavlinik@operationpetsalive.org
URL:https://operationpetsalive.org/event/gift-wrapping-2025-5/
LOCATION:The Woodlands Mall\, 1201 Lake Woodlands Dr\, The Woodlands\, TX\, 77380\, United States
CATEGORIES:Fundraisers
ATTACH;FMTTYPE=image/webp:https://operationpetsalive.org/wp-content/uploads/2025/11/gift-wrapping-banner.webp
END:VEVENT
BEGIN:VEVENT
DTSTART;TZID=America/Chicago:20251218T120000
DTEND;TZID=America/Chicago:20251218T200000
DTSTAMP:20260421T182849
CREATED:20251126T210646Z
LAST-MODIFIED:20251126T210646Z
UID:17837-1766059200-1766088000@operationpetsalive.org
SUMMARY:Holiday Gift Wrapping
DESCRIPTION:Add #JoyToYourWorld this Holiday Season by saving precious time! For the 12th year in a row\, The Woodlands Mall has invited Operation Pets Alive volunteers to provide Gift Wrapping Services to holiday shoppers! \nOPA Volunteers will be ready to wrap your holiday gifts up beginning December 13 through December 24 on the lower level of the mall near Dick’s Sporting Goods. \nA minimum donation is asked for each gift wrapped. Save time and help save precious lives! All proceeds from our gift wrapping services go to help the homeless dogs and cats in Montgomery County! \n\nGift-Wrapping Days and Hours:\nDecember 13 Noon – 9pm\nDecember 14 Noon – 7pm\nDecember 15 Noon – 9pm\nDecember 16-19 Noon – 8pm\nDecember 20 10am – 9pm\nDecember 21 11am – 8pm\nDecember 22-23 Noon – 9pm\nDecember 24 9am – 3pm \n\nMinimum Donation for Gift-Wrapping Services:\nSmall: $5\nMedium: $8\nLarge: $10 \n\nIf you’re looking to #GiveBack this Holiday season by donating a little of your time for a worthy cause\, Operation Pets Alive needs you!\nGift wrappers\, customer service\, and general help is needed to fill shifts at our Gift Wrapping Station. Sign up with a friend or two or three! For more information and to pick your shift(s)\, visit our OPA Volunteer SignUp page here:\nhttps://www.signupgenius.com/go/10C0945ACAE2EAAF4C52-59944594-2025#/ \nIf you would like to sign up as a Shift Coordinator\, have a group you would like to bring\, have questions or need help\, please email our Gift Wrapping Coordinator at: cpavlinik@operationpetsalive.org
URL:https://operationpetsalive.org/event/holiday-gift-wrapping-2025-6/
LOCATION:The Woodlands Mall\, 1201 Lake Woodlands Dr\, The Woodlands\, TX\, 77380\, United States
CATEGORIES:Fundraisers
ATTACH;FMTTYPE=image/webp:https://operationpetsalive.org/wp-content/uploads/2025/11/gift-wrapping-banner.webp
END:VEVENT
BEGIN:VEVENT
DTSTART;TZID=America/Chicago:20251219T120000
DTEND;TZID=America/Chicago:20251219T200000
DTSTAMP:20260421T182849
CREATED:20251126T210837Z
LAST-MODIFIED:20251126T210837Z
UID:17839-1766145600-1766174400@operationpetsalive.org
SUMMARY:Holiday Gift Wrapping
DESCRIPTION:Add #JoyToYourWorld this Holiday Season by saving precious time! For the 12th year in a row\, The Woodlands Mall has invited Operation Pets Alive volunteers to provide Gift Wrapping Services to holiday shoppers! \nOPA Volunteers will be ready to wrap your holiday gifts up beginning December 13 through December 24 on the lower level of the mall near Dick’s Sporting Goods. \nA minimum donation is asked for each gift wrapped. Save time and help save precious lives! All proceeds from our gift wrapping services go to help the homeless dogs and cats in Montgomery County! \n\nGift-Wrapping Days and Hours:\nDecember 13 Noon – 9pm\nDecember 14 Noon – 7pm\nDecember 15 Noon – 9pm\nDecember 16-19 Noon – 8pm\nDecember 20 10am – 9pm\nDecember 21 11am – 8pm\nDecember 22-23 Noon – 9pm\nDecember 24 9am – 3pm \n\nMinimum Donation for Gift-Wrapping Services:\nSmall: $5\nMedium: $8\nLarge: $10 \n\nIf you’re looking to #GiveBack this Holiday season by donating a little of your time for a worthy cause\, Operation Pets Alive needs you!\nGift wrappers\, customer service\, and general help is needed to fill shifts at our Gift Wrapping Station. Sign up with a friend or two or three! For more information and to pick your shift(s)\, visit our OPA Volunteer SignUp page here:\nhttps://www.signupgenius.com/go/10C0945ACAE2EAAF4C52-59944594-2025#/ \nIf you would like to sign up as a Shift Coordinator\, have a group you would like to bring\, have questions or need help\, please email our Gift Wrapping Coordinator at: cpavlinik@operationpetsalive.org
URL:https://operationpetsalive.org/event/holiday-gift-wrapping/
LOCATION:The Woodlands Mall\, 1201 Lake Woodlands Dr\, The Woodlands\, TX\, 77380\, United States
CATEGORIES:Fundraisers
ATTACH;FMTTYPE=image/webp:https://operationpetsalive.org/wp-content/uploads/2025/11/gift-wrapping-banner.webp
END:VEVENT
BEGIN:VEVENT
DTSTART;TZID=America/Chicago:20251220T100000
DTEND;TZID=America/Chicago:20251220T210000
DTSTAMP:20260421T182849
CREATED:20251126T210957Z
LAST-MODIFIED:20251126T210957Z
UID:17841-1766224800-1766264400@operationpetsalive.org
SUMMARY:Holiday Gift Wrapping
DESCRIPTION:Add #JoyToYourWorld this Holiday Season by saving precious time! For the 12th year in a row\, The Woodlands Mall has invited Operation Pets Alive volunteers to provide Gift Wrapping Services to holiday shoppers! \nOPA Volunteers will be ready to wrap your holiday gifts up beginning December 13 through December 24 on the lower level of the mall near Dick’s Sporting Goods. \nA minimum donation is asked for each gift wrapped. Save time and help save precious lives! All proceeds from our gift wrapping services go to help the homeless dogs and cats in Montgomery County! \n\nGift-Wrapping Days and Hours:\nDecember 13 Noon – 9pm\nDecember 14 Noon – 7pm\nDecember 15 Noon – 9pm\nDecember 16-19 Noon – 8pm\nDecember 20 10am – 9pm\nDecember 21 11am – 8pm\nDecember 22-23 Noon – 9pm\nDecember 24 9am – 3pm \n\nMinimum Donation for Gift-Wrapping Services:\nSmall: $5\nMedium: $8\nLarge: $10 \n\nIf you’re looking to #GiveBack this Holiday season by donating a little of your time for a worthy cause\, Operation Pets Alive needs you!\nGift wrappers\, customer service\, and general help is needed to fill shifts at our Gift Wrapping Station. Sign up with a friend or two or three! For more information and to pick your shift(s)\, visit our OPA Volunteer SignUp page here:\nhttps://www.signupgenius.com/go/10C0945ACAE2EAAF4C52-59944594-2025#/ \nIf you would like to sign up as a Shift Coordinator\, have a group you would like to bring\, have questions or need help\, please email our Gift Wrapping Coordinator at: cpavlinik@operationpetsalive.org
URL:https://operationpetsalive.org/event/holiday-gift-wrapping-2/
LOCATION:The Woodlands Mall\, 1201 Lake Woodlands Dr\, The Woodlands\, TX\, 77380\, United States
CATEGORIES:Fundraisers
ATTACH;FMTTYPE=image/webp:https://operationpetsalive.org/wp-content/uploads/2025/11/gift-wrapping-banner.webp
END:VEVENT
BEGIN:VEVENT
DTSTART;TZID=America/Chicago:20251221T110000
DTEND;TZID=America/Chicago:20251221T200000
DTSTAMP:20260421T182849
CREATED:20251126T211121Z
LAST-MODIFIED:20251126T211121Z
UID:17843-1766314800-1766347200@operationpetsalive.org
SUMMARY:Holiday Gift Wrapping
DESCRIPTION:Add #JoyToYourWorld this Holiday Season by saving precious time! For the 12th year in a row\, The Woodlands Mall has invited Operation Pets Alive volunteers to provide Gift Wrapping Services to holiday shoppers! \nOPA Volunteers will be ready to wrap your holiday gifts up beginning December 13 through December 24 on the lower level of the mall near Dick’s Sporting Goods. \nA minimum donation is asked for each gift wrapped. Save time and help save precious lives! All proceeds from our gift wrapping services go to help the homeless dogs and cats in Montgomery County! \n\nGift-Wrapping Days and Hours:\nDecember 13 Noon – 9pm\nDecember 14 Noon – 7pm\nDecember 15 Noon – 9pm\nDecember 16-19 Noon – 8pm\nDecember 20 10am – 9pm\nDecember 21 11am – 8pm\nDecember 22-23 Noon – 9pm\nDecember 24 9am – 3pm \n\nMinimum Donation for Gift-Wrapping Services:\nSmall: $5\nMedium: $8\nLarge: $10 \n\nIf you’re looking to #GiveBack this Holiday season by donating a little of your time for a worthy cause\, Operation Pets Alive needs you!\nGift wrappers\, customer service\, and general help is needed to fill shifts at our Gift Wrapping Station. Sign up with a friend or two or three! For more information and to pick your shift(s)\, visit our OPA Volunteer SignUp page here:\nhttps://www.signupgenius.com/go/10C0945ACAE2EAAF4C52-59944594-2025#/ \nIf you would like to sign up as a Shift Coordinator\, have a group you would like to bring\, have questions or need help\, please email our Gift Wrapping Coordinator at: cpavlinik@operationpetsalive.org
URL:https://operationpetsalive.org/event/holiday-gift-wrapping-3/
LOCATION:The Woodlands Mall\, 1201 Lake Woodlands Dr\, The Woodlands\, TX\, 77380\, United States
CATEGORIES:Fundraisers
ATTACH;FMTTYPE=image/webp:https://operationpetsalive.org/wp-content/uploads/2025/11/gift-wrapping-banner.webp
END:VEVENT
BEGIN:VEVENT
DTSTART;TZID=America/Chicago:20251222T120000
DTEND;TZID=America/Chicago:20251222T210000
DTSTAMP:20260421T182849
CREATED:20251126T211255Z
LAST-MODIFIED:20251126T211255Z
UID:17845-1766404800-1766437200@operationpetsalive.org
SUMMARY:Holiday Gift Wrapping
DESCRIPTION:Add #JoyToYourWorld this Holiday Season by saving precious time! For the 12th year in a row\, The Woodlands Mall has invited Operation Pets Alive volunteers to provide Gift Wrapping Services to holiday shoppers! \nOPA Volunteers will be ready to wrap your holiday gifts up beginning December 13 through December 24 on the lower level of the mall near Dick’s Sporting Goods. \nA minimum donation is asked for each gift wrapped. Save time and help save precious lives! All proceeds from our gift wrapping services go to help the homeless dogs and cats in Montgomery County! \n\nGift-Wrapping Days and Hours:\nDecember 13 Noon – 9pm\nDecember 14 Noon – 7pm\nDecember 15 Noon – 9pm\nDecember 16-19 Noon – 8pm\nDecember 20 10am – 9pm\nDecember 21 11am – 8pm\nDecember 22-23 Noon – 9pm\nDecember 24 9am – 3pm \n\nMinimum Donation for Gift-Wrapping Services:\nSmall: $5\nMedium: $8\nLarge: $10 \n\nIf you’re looking to #GiveBack this Holiday season by donating a little of your time for a worthy cause\, Operation Pets Alive needs you!\nGift wrappers\, customer service\, and general help is needed to fill shifts at our Gift Wrapping Station. Sign up with a friend or two or three! For more information and to pick your shift(s)\, visit our OPA Volunteer SignUp page here:\nhttps://www.signupgenius.com/go/10C0945ACAE2EAAF4C52-59944594-2025#/ \nIf you would like to sign up as a Shift Coordinator\, have a group you would like to bring\, have questions or need help\, please email our Gift Wrapping Coordinator at: cpavlinik@operationpetsalive.org
URL:https://operationpetsalive.org/event/holiday-gift-wrapping-4/
LOCATION:The Woodlands Mall\, 1201 Lake Woodlands Dr\, The Woodlands\, TX\, 77380\, United States
CATEGORIES:Fundraisers
ATTACH;FMTTYPE=image/webp:https://operationpetsalive.org/wp-content/uploads/2025/11/gift-wrapping-banner.webp
END:VEVENT
BEGIN:VEVENT
DTSTART;TZID=America/Chicago:20251222T150000
DTEND;TZID=America/Chicago:20251222T210000
DTSTAMP:20260421T182849
CREATED:20251126T220141Z
LAST-MODIFIED:20251205T004336Z
UID:17854-1766415600-1766437200@operationpetsalive.org
SUMMARY:Spirit Night at Twisted Sugar
DESCRIPTION:Twisted Sugar is donating 15% of all sales during Spirit Night to  Operation Pets Alive\, helping local dogs and cats in need. Come by and shop for Santa cookies\, holiday party treats\, or simply stock up on your favorite sweets—every purchase makes a difference!
URL:https://operationpetsalive.org/event/spirit-day-at-twisted-sugar/
LOCATION:Twisted Sugar\, 4747 Research Forest Dr\, #420B\, The Woodlands\, TX\, 77381\, United States
CATEGORIES:Fundraisers
ATTACH;FMTTYPE=image/jpeg:https://operationpetsalive.org/wp-content/uploads/2025/11/spirit-night.jpg
END:VEVENT
BEGIN:VEVENT
DTSTART;TZID=America/Chicago:20251223T120000
DTEND;TZID=America/Chicago:20251223T210000
DTSTAMP:20260421T182850
CREATED:20251126T211450Z
LAST-MODIFIED:20251126T211450Z
UID:17847-1766491200-1766523600@operationpetsalive.org
SUMMARY:Holiday Gift Wrapping
DESCRIPTION:Add #JoyToYourWorld this Holiday Season by saving precious time! For the 12th year in a row\, The Woodlands Mall has invited Operation Pets Alive volunteers to provide Gift Wrapping Services to holiday shoppers! \nOPA Volunteers will be ready to wrap your holiday gifts up beginning December 13 through December 24 on the lower level of the mall near Dick’s Sporting Goods. \nA minimum donation is asked for each gift wrapped. Save time and help save precious lives! All proceeds from our gift wrapping services go to help the homeless dogs and cats in Montgomery County! \n\nGift-Wrapping Days and Hours:\nDecember 13 Noon – 9pm\nDecember 14 Noon – 7pm\nDecember 15 Noon – 9pm\nDecember 16-19 Noon – 8pm\nDecember 20 10am – 9pm\nDecember 21 11am – 8pm\nDecember 22-23 Noon – 9pm\nDecember 24 9am – 3pm \n\nMinimum Donation for Gift-Wrapping Services:\nSmall: $5\nMedium: $8\nLarge: $10 \n\nIf you’re looking to #GiveBack this Holiday season by donating a little of your time for a worthy cause\, Operation Pets Alive needs you!\nGift wrappers\, customer service\, and general help is needed to fill shifts at our Gift Wrapping Station. Sign up with a friend or two or three! For more information and to pick your shift(s)\, visit our OPA Volunteer SignUp page here:\nhttps://www.signupgenius.com/go/10C0945ACAE2EAAF4C52-59944594-2025#/ \nIf you would like to sign up as a Shift Coordinator\, have a group you would like to bring\, have questions or need help\, please email our Gift Wrapping Coordinator at: cpavlinik@operationpetsalive.org
URL:https://operationpetsalive.org/event/holiday-gift-wrapping-5/
LOCATION:The Woodlands Mall\, 1201 Lake Woodlands Dr\, The Woodlands\, TX\, 77380\, United States
CATEGORIES:Fundraisers
ATTACH;FMTTYPE=image/webp:https://operationpetsalive.org/wp-content/uploads/2025/11/gift-wrapping-banner.webp
END:VEVENT
BEGIN:VEVENT
DTSTART;TZID=America/Chicago:20251224T090000
DTEND;TZID=America/Chicago:20251224T150000
DTSTAMP:20260421T182850
CREATED:20251126T211631Z
LAST-MODIFIED:20251126T211631Z
UID:17849-1766566800-1766588400@operationpetsalive.org
SUMMARY:Holiday Gift Wrapping
DESCRIPTION:Add #JoyToYourWorld this Holiday Season by saving precious time! For the 12th year in a row\, The Woodlands Mall has invited Operation Pets Alive volunteers to provide Gift Wrapping Services to holiday shoppers! \nOPA Volunteers will be ready to wrap your holiday gifts up beginning December 13 through December 24 on the lower level of the mall near Dick’s Sporting Goods. \nA minimum donation is asked for each gift wrapped. Save time and help save precious lives! All proceeds from our gift wrapping services go to help the homeless dogs and cats in Montgomery County! \n\nGift-Wrapping Days and Hours:\nDecember 13 Noon – 9pm\nDecember 14 Noon – 7pm\nDecember 15 Noon – 9pm\nDecember 16-19 Noon – 8pm\nDecember 20 10am – 9pm\nDecember 21 11am – 8pm\nDecember 22-23 Noon – 9pm\nDecember 24 9am – 3pm \n\nMinimum Donation for Gift-Wrapping Services:\nSmall: $5\nMedium: $8\nLarge: $10 \n\nIf you’re looking to #GiveBack this Holiday season by donating a little of your time for a worthy cause\, Operation Pets Alive needs you!\nGift wrappers\, customer service\, and general help is needed to fill shifts at our Gift Wrapping Station. Sign up with a friend or two or three! For more information and to pick your shift(s)\, visit our OPA Volunteer SignUp page here:\nhttps://www.signupgenius.com/go/10C0945ACAE2EAAF4C52-59944594-2025#/ \nIf you would like to sign up as a Shift Coordinator\, have a group you would like to bring\, have questions or need help\, please email our Gift Wrapping Coordinator at: cpavlinik@operationpetsalive.org
URL:https://operationpetsalive.org/event/holiday-gift-wrapping-6/
LOCATION:The Woodlands Mall\, 1201 Lake Woodlands Dr\, The Woodlands\, TX\, 77380\, United States
CATEGORIES:Fundraisers
ATTACH;FMTTYPE=image/webp:https://operationpetsalive.org/wp-content/uploads/2025/11/gift-wrapping-banner.webp
END:VEVENT
END:VCALENDAR