BEGIN:VCALENDAR
VERSION:2.0
PRODID:-//Operation Pets Alive - ECPv6.15.12.2//NONSGML v1.0//EN
CALSCALE:GREGORIAN
METHOD:PUBLISH
X-ORIGINAL-URL:https://operationpetsalive.org
X-WR-CALDESC:Events for Operation Pets Alive
REFRESH-INTERVAL;VALUE=DURATION:PT1H
X-Robots-Tag:noindex
X-PUBLISHED-TTL:PT1H
BEGIN:VTIMEZONE
TZID:America/Chicago
BEGIN:DAYLIGHT
TZOFFSETFROM:-0600
TZOFFSETTO:-0500
TZNAME:CDT
DTSTART:20240310T080000
END:DAYLIGHT
BEGIN:STANDARD
TZOFFSETFROM:-0500
TZOFFSETTO:-0600
TZNAME:CST
DTSTART:20241103T070000
END:STANDARD
BEGIN:DAYLIGHT
TZOFFSETFROM:-0600
TZOFFSETTO:-0500
TZNAME:CDT
DTSTART:20250309T080000
END:DAYLIGHT
BEGIN:STANDARD
TZOFFSETFROM:-0500
TZOFFSETTO:-0600
TZNAME:CST
DTSTART:20251102T070000
END:STANDARD
BEGIN:DAYLIGHT
TZOFFSETFROM:-0600
TZOFFSETTO:-0500
TZNAME:CDT
DTSTART:20260308T080000
END:DAYLIGHT
BEGIN:STANDARD
TZOFFSETFROM:-0500
TZOFFSETTO:-0600
TZNAME:CST
DTSTART:20261101T070000
END:STANDARD
BEGIN:DAYLIGHT
TZOFFSETFROM:-0600
TZOFFSETTO:-0500
TZNAME:CDT
DTSTART:20270314T080000
END:DAYLIGHT
BEGIN:STANDARD
TZOFFSETFROM:-0500
TZOFFSETTO:-0600
TZNAME:CST
DTSTART:20271107T070000
END:STANDARD
END:VTIMEZONE
BEGIN:VEVENT
DTSTART;TZID=America/Chicago:20251224T090000
DTEND;TZID=America/Chicago:20251224T150000
DTSTAMP:20260422T172400
CREATED:20251126T211631Z
LAST-MODIFIED:20251126T211631Z
UID:17849-1766566800-1766588400@operationpetsalive.org
SUMMARY:Holiday Gift Wrapping
DESCRIPTION:Add #JoyToYourWorld this Holiday Season by saving precious time! For the 12th year in a row\, The Woodlands Mall has invited Operation Pets Alive volunteers to provide Gift Wrapping Services to holiday shoppers! \nOPA Volunteers will be ready to wrap your holiday gifts up beginning December 13 through December 24 on the lower level of the mall near Dick’s Sporting Goods. \nA minimum donation is asked for each gift wrapped. Save time and help save precious lives! All proceeds from our gift wrapping services go to help the homeless dogs and cats in Montgomery County! \n\nGift-Wrapping Days and Hours:\nDecember 13 Noon – 9pm\nDecember 14 Noon – 7pm\nDecember 15 Noon – 9pm\nDecember 16-19 Noon – 8pm\nDecember 20 10am – 9pm\nDecember 21 11am – 8pm\nDecember 22-23 Noon – 9pm\nDecember 24 9am – 3pm \n\nMinimum Donation for Gift-Wrapping Services:\nSmall: $5\nMedium: $8\nLarge: $10 \n\nIf you’re looking to #GiveBack this Holiday season by donating a little of your time for a worthy cause\, Operation Pets Alive needs you!\nGift wrappers\, customer service\, and general help is needed to fill shifts at our Gift Wrapping Station. Sign up with a friend or two or three! For more information and to pick your shift(s)\, visit our OPA Volunteer SignUp page here:\nhttps://www.signupgenius.com/go/10C0945ACAE2EAAF4C52-59944594-2025#/ \nIf you would like to sign up as a Shift Coordinator\, have a group you would like to bring\, have questions or need help\, please email our Gift Wrapping Coordinator at: cpavlinik@operationpetsalive.org
URL:https://operationpetsalive.org/event/holiday-gift-wrapping-6/
LOCATION:The Woodlands Mall\, 1201 Lake Woodlands Dr\, The Woodlands\, TX\, 77380\, United States
CATEGORIES:Fundraisers
ATTACH;FMTTYPE=image/webp:https://operationpetsalive.org/wp-content/uploads/2025/11/gift-wrapping-banner.webp
END:VEVENT
BEGIN:VEVENT
DTSTART;TZID=America/Chicago:20260307T100000
DTEND;TZID=America/Chicago:20260307T180000
DTSTAMP:20260422T172400
CREATED:20260303T183443Z
LAST-MODIFIED:20260303T183443Z
UID:18540-1772877600-1772906400@operationpetsalive.org
SUMMARY:Montgomery County Home & Outdoor Living Show
DESCRIPTION:Operation Pets Alive will have a booth at the Montgomery County Home & Outdoor Living Show! Stop by and say hi\, learn how you can get involved in saving lives in Montgomery County or drop off a donation! \nJoin us at the Montgomery County Home & Outdoor Living Show this Spring. The show helps you to find home goods\, seasonal decor\, artisan furniture\, products and the right professionals for any type of home improvement or DIY project you have. Create your dream home with their home improvement professionals. \nLocation:\nThe Lone Star Convention & Expo Center\n9055 Airport Road\, Conroe\, TX 77303
URL:https://operationpetsalive.org/event/montgomery-county-home-outdoor-living-show/
LOCATION:TX
CATEGORIES:Adoption Events,Educational,Fundraisers
ATTACH;FMTTYPE=image/jpeg:https://operationpetsalive.org/wp-content/uploads/2026/02/MC_S_2026_March.jpg
END:VEVENT
BEGIN:VEVENT
DTSTART;TZID=America/Chicago:20260308T100000
DTEND;TZID=America/Chicago:20260308T160000
DTSTAMP:20260422T172400
CREATED:20260303T183508Z
LAST-MODIFIED:20260303T183508Z
UID:18541-1772964000-1772985600@operationpetsalive.org
SUMMARY:Montgomery County Home & Outdoor Living Show
DESCRIPTION:Operation Pets Alive will have a booth at the Montgomery County Home & Outdoor Living Show! Stop by and say hi\, learn how you can get involved in saving lives in Montgomery County or drop off a donation! \nJoin us at the Montgomery County Home & Outdoor Living Show this Spring. The show helps you to find home goods\, seasonal decor\, artisan furniture\, products and the right professionals for any type of home improvement or DIY project you have. Create your dream home with their home improvement professionals. \nLocation:\nThe Lone Star Convention & Expo Center\n9055 Airport Road\, Conroe\, TX 77303
URL:https://operationpetsalive.org/event/montgomery-county-home-outdoor-living-show-2/
LOCATION:TX
CATEGORIES:Adoption Events,Educational,Fundraisers
ATTACH;FMTTYPE=image/jpeg:https://operationpetsalive.org/wp-content/uploads/2026/02/MC_S_2026_March.jpg
END:VEVENT
BEGIN:VEVENT
DTSTART;TZID=America/Chicago:20260402T180000
DTEND;TZID=America/Chicago:20260402T180000
DTSTAMP:20260422T172400
CREATED:20251003T021158Z
LAST-MODIFIED:20260121T201346Z
UID:17518-1775152800-1775152800@operationpetsalive.org
SUMMARY:Rescues on the Runway
DESCRIPTION:Join Operation Pets Alive for an enchanting evening al-fresco where rescue pups and humans showcase their style on the runway! Delight in a delicious dinner\, participate in a silent auction\, and raffle\, and discover the many ways OPA makes a difference in the community. \nTo buy tickets or signup to sponsor: https://operationpetsalive.org/runway/
URL:https://operationpetsalive.org/event/rescues-runway-2026/
LOCATION:The Peach Orchard\, 1737 Sawdust Rd\, Spring\, TX\, 77380\, United States
CATEGORIES:Fundraisers
ATTACH;FMTTYPE=image/jpeg:https://operationpetsalive.org/wp-content/uploads/2025/10/rescues-runway-2026.jpg
END:VEVENT
BEGIN:VEVENT
DTSTART;TZID=America/Chicago:20260406T080000
DTEND;TZID=America/Chicago:20260501T200000
DTSTAMP:20260422T172400
CREATED:20260409T155010Z
LAST-MODIFIED:20260409T155249Z
UID:18795-1775462400-1777665600@operationpetsalive.org
SUMMARY:2027 Calendar Contest
DESCRIPTION:Operation Pets Alive\, in partnership with Lenora Stein Photography\, is happy to announce its dog calendar contest for 2027. Proceeds from the sale of the calendar and photo contest will assist Operation Pets Alive with the spay and neuter of animals in the Montgomery County Texas area\, as well as\, medical bills\, vaccines\, and heartworm treatments for their foster dogs and cats. \nWe encourage you to submit your favorite photo of your dog and ask your family and friends to vote for them. Please review the Contest Rules carefully for submission guidelines. Those that do not follow these rules will not be eligible to win. Fees for photo entries and votes will help Operation Pets Alive continue their efforts and programs like Flight for Life and Pups on Trucks. \nGrand Prize:\nThe winners of the photo contest will be determined by the top 13 entrants that get the most votes. \nThe top winner will win the coveted cover photo for the 2027 calendar! \n2nd – 13th place winners will have their dog featured as a dog of the month. \nThe top 13 vote getters will have their pet professionally photographed by Lenora Stein Photography for the 2027 calendar. \nPrizes | Rules \n\nReserve a Special Spot In The Calendar For Your Pet:\nHonor your dog or celebrate a gotcha-day or birthday by reserving an empty grid space (before or after the numbered squares) for their photo. Choose a favorite photo\, a month\, and pay. Grid images will be cropped to a square ratio\, so please be mindful of that when choosing your photo. Each month has a limited number of squares in each grid and will be filled on a first come\, first served basis; don’t delay! Each grid space is just $10. \nReserve Your Spot Here →
URL:https://operationpetsalive.org/event/2027-calendar-contest/
LOCATION:TX
CATEGORIES:Fundraisers
ATTACH;FMTTYPE=image/jpeg:https://operationpetsalive.org/wp-content/uploads/2026/04/Open-for-voting.jpg
END:VEVENT
BEGIN:VEVENT
DTSTART;TZID=America/Chicago:20260502T080000
DTEND;TZID=America/Chicago:20260502T130000
DTSTAMP:20260422T172400
CREATED:20260113T014209Z
LAST-MODIFIED:20260331T181527Z
UID:18294-1777708800-1777726800@operationpetsalive.org
SUMMARY:3rd Annual Coco Classic Tennis Tournament
DESCRIPTION:The 2026 Coco Classic Tennis Tournament has been postponed to the fall of 2026. \nIn Loving Memory of Coco Cassidy \nPlayers can sign up as individuals or as 2 person teams. See more details for the tournament format and how you can sponsor or support this great event here: Coco Classic
URL:https://operationpetsalive.org/event/2025-coco-classic/
LOCATION:Bear Branch Tennis Courts\, 5200 Research Forest Dr\, The Woodlands\, TX\, 77381\, United States
CATEGORIES:Fundraisers
ATTACH;FMTTYPE=image/jpeg:https://operationpetsalive.org/wp-content/uploads/2026/02/coco-2026.jpg
END:VEVENT
END:VCALENDAR